BEGIN:VCALENDAR
VERSION:2.0
PRODID:-//102.37.3.30//NONSGML kigkonsult.se iCalcreator 2.41.92//
CALSCALE:GREGORIAN
METHOD:PUBLISH
UID:37323536-6339-4132-a162-646237393030
X-WR-TIMEZONE:Africa/Johannesburg
BEGIN:VEVENT
UID:62613730-3938-4662-b436-643238643438
DTSTAMP:20260422T113901Z
DESCRIPTION:STRAUSS & CO\nTIMED ONLINE AUCTION\, 22 APRIL 2026\n\nEsmé Berm
 an\n\nhttps://www.straussart.co.za/auctions/details/561-22-apr-2026\n\n---
 ----------------------\n\nLot 39\nSMAC Gallery\nTrevor Coleman: Abstractio
 n 1960 - 1977\n\nhttps://www.straussart.co.za/auctions/lot/561-22-apr-2026
 /39
DTSTART;TZID=Europe/Helsinki:20260422T143900
DTEND;TZID=Europe/Helsinki:20260422T144000
LOCATION:Online (https://www.straussart.co.za/auctions/details/561-22-apr-2
 026)
SUMMARY:Strauss & Co - Timed Online Auction\, 22 April 2026
BEGIN:VALARM
UID:30336135-3435-4434-b166-373563646261
ACTION:DISPLAY
DESCRIPTION:Reminder
TRIGGER:PT30M
END:VALARM
END:VEVENT
END:VCALENDAR
