BEGIN:VCALENDAR
VERSION:2.0
PRODID:-//102.37.3.30//NONSGML kigkonsult.se iCalcreator 2.41.92//
CALSCALE:GREGORIAN
METHOD:PUBLISH
UID:65366231-6132-4566-b765-653237613362
X-WR-TIMEZONE:Africa/Johannesburg
BEGIN:VEVENT
UID:61353139-6134-4465-b038-313961666138
DTSTAMP:20260422T235852Z
DESCRIPTION:STRAUSS & CO\nTIMED ONLINE AUCTION\, 22 APRIL 2026\n\nEsmé Berm
 an\n\nhttps://www.straussart.co.za/auctions/details/561-22-apr-2026
DTSTART;TZID=Europe/Helsinki:20260408T110000
DTEND;TZID=Europe/Helsinki:20260422T150800
LOCATION:Online (https://www.straussart.co.za/auctions/details/561-22-apr-2
 026)
SUMMARY:Strauss & Co - Timed Online Auction\, 22 April 2026
BEGIN:VALARM
UID:64653462-6138-4237-b862-336466363531
ACTION:DISPLAY
DESCRIPTION:Reminder
TRIGGER:
END:VALARM
END:VEVENT
END:VCALENDAR
