BEGIN:VCALENDAR
VERSION:2.0
PRODID:-//102.37.3.30//NONSGML kigkonsult.se iCalcreator 2.41.92//
CALSCALE:GREGORIAN
METHOD:PUBLISH
UID:66663733-3165-4965-a534-616364653065
X-WR-TIMEZONE:Africa/Johannesburg
BEGIN:VEVENT
UID:39333431-6336-4261-a333-616162613261
DTSTAMP:20260425T185125Z
DESCRIPTION:STRAUSS & CO\nTIMED ONLINE AUCTION\, 25 MAY 2026\n\nDay Sale\n
 \nhttps://www.straussart.co.za/auctions/details/559-25-may-2026
DTSTART;TZID=Europe/Helsinki:20260430T090000
DTEND;TZID=Europe/Helsinki:20260525T152500
LOCATION:Online (https://www.straussart.co.za/auctions/details/559-25-may-2
 026)
SUMMARY:Strauss & Co - Timed Online Auction\, 25 May 2026
BEGIN:VALARM
UID:33386661-6661-4332-b931-366534303138
ACTION:DISPLAY
DESCRIPTION:Reminder
TRIGGER:
END:VALARM
END:VEVENT
END:VCALENDAR
