BEGIN:VCALENDAR
VERSION:2.0
PRODID:-//102.37.3.30//NONSGML kigkonsult.se iCalcreator 2.41.92//
CALSCALE:GREGORIAN
METHOD:PUBLISH
UID:39663139-6234-4939-a164-663631373530
X-WR-TIMEZONE:Africa/Johannesburg
BEGIN:VEVENT
UID:36336438-3834-4733-b761-616132333834
DTSTAMP:20260424T042552Z
DESCRIPTION:STRAUSS & CO\nTIMED ONLINE AUCTION\, 12 MAY 2026\n\nFraming a N
 ew Nation\n\nhttps://www.straussart.co.za/auctions/details/508-12-may-2026
DTSTART;TZID=Europe/Helsinki:20260424T090000
DTEND;TZID=Europe/Helsinki:20260512T144300
LOCATION:Online (https://www.straussart.co.za/auctions/details/508-12-may-2
 026)
SUMMARY:Strauss & Co - Timed Online Auction\, 12 May 2026
BEGIN:VALARM
UID:32333739-3137-4865-a465-303739646138
ACTION:DISPLAY
DESCRIPTION:Reminder
TRIGGER:
END:VALARM
END:VEVENT
END:VCALENDAR
