BEGIN:VCALENDAR
VERSION:2.0
PRODID:-//102.37.3.30//NONSGML kigkonsult.se iCalcreator 2.41.92//
CALSCALE:GREGORIAN
METHOD:PUBLISH
UID:61336661-3038-4730-a231-613031373132
X-WR-TIMEZONE:Africa/Johannesburg
BEGIN:VEVENT
UID:61306163-3634-4539-b531-326464303136
DTSTAMP:20260425T123856Z
DESCRIPTION:STRAUSS & CO\nTIMED ONLINE AUCTION\, 11 MAY 2026\n\nMay ART\n\n
 https://www.straussart.co.za/auctions/details/507-11-may-2026\n\n---------
 ----------------\n\nLot 257\nLynda Ballen\nShine\n\nhttps://www.straussart
 .co.za/auctions/lot/507-11-may-2026/257
DTSTART;TZID=Europe/Helsinki:20260511T181700
DTEND;TZID=Europe/Helsinki:20260511T181800
LOCATION:Online (https://www.straussart.co.za/auctions/details/507-11-may-2
 026)
SUMMARY:Strauss & Co - Timed Online Auction\, 11 May 2026
BEGIN:VALARM
UID:62643361-3631-4361-b839-616532626637
ACTION:DISPLAY
DESCRIPTION:Reminder
TRIGGER:PT30M
END:VALARM
END:VEVENT
END:VCALENDAR
