BEGIN:VCALENDAR
VERSION:2.0
PRODID:-//102.37.3.30//NONSGML kigkonsult.se iCalcreator 2.41.92//
CALSCALE:GREGORIAN
METHOD:PUBLISH
UID:34616333-3131-4336-a230-396338643239
X-WR-TIMEZONE:Africa/Johannesburg
BEGIN:VEVENT
UID:64663930-3335-4562-a264-363966653463
DTSTAMP:20260426T003835Z
DESCRIPTION:STRAUSS & CO\nTIMED ONLINE AUCTION\, 11 MAY 2026\n\nMay ART\n\n
 https://www.straussart.co.za/auctions/details/507-11-may-2026\n\n---------
 ----------------\n\nLot 202\nOtto Klar\nHarbor Scene\n\nhttps://www.straus
 sart.co.za/auctions/lot/507-11-may-2026/202
DTSTART;TZID=Europe/Helsinki:20260511T172200
DTEND;TZID=Europe/Helsinki:20260511T172300
LOCATION:Online (https://www.straussart.co.za/auctions/details/507-11-may-2
 026)
SUMMARY:Strauss & Co - Timed Online Auction\, 11 May 2026
BEGIN:VALARM
UID:64613766-3939-4131-a163-353332643837
ACTION:DISPLAY
DESCRIPTION:Reminder
TRIGGER:PT30M
END:VALARM
END:VEVENT
END:VCALENDAR
