BEGIN:VCALENDAR
VERSION:2.0
PRODID:-//102.37.3.30//NONSGML kigkonsult.se iCalcreator 2.41.92//
CALSCALE:GREGORIAN
METHOD:PUBLISH
UID:34653663-6662-4465-a533-336462633236
X-WR-TIMEZONE:Africa/Johannesburg
BEGIN:VEVENT
UID:32303837-3066-4665-b832-326136623232
DTSTAMP:20260424T215638Z
DESCRIPTION:STRAUSS & CO\nTIMED ONLINE AUCTION\, 11 MAY 2026\n\nMay ART\n\n
 https://www.straussart.co.za/auctions/details/507-11-may-2026\n\n---------
 ----------------\n\nLot 165\nSarah Ballam\nNike\n\nhttps://www.straussart.
 co.za/auctions/lot/507-11-may-2026/165
DTSTART;TZID=Europe/Helsinki:20260511T164500
DTEND;TZID=Europe/Helsinki:20260511T164600
LOCATION:Online (https://www.straussart.co.za/auctions/details/507-11-may-2
 026)
SUMMARY:Strauss & Co - Timed Online Auction\, 11 May 2026
BEGIN:VALARM
UID:34616166-6661-4131-b131-303063343132
ACTION:DISPLAY
DESCRIPTION:Reminder
TRIGGER:PT30M
END:VALARM
END:VEVENT
END:VCALENDAR
