BEGIN:VCALENDAR
VERSION:2.0
PRODID:-//102.37.3.30//NONSGML kigkonsult.se iCalcreator 2.41.92//
CALSCALE:GREGORIAN
METHOD:PUBLISH
UID:66396164-6261-4462-a665-623039623535
X-WR-TIMEZONE:Africa/Johannesburg
BEGIN:VEVENT
UID:64633761-6361-4364-b633-303739643634
DTSTAMP:20260426T003824Z
DESCRIPTION:STRAUSS & CO\nTIMED ONLINE AUCTION\, 11 MAY 2026\n\nMay ART\n\n
 https://www.straussart.co.za/auctions/details/507-11-may-2026\n\n---------
 ----------------\n\nLot 103\nAlfred Krenz\nMagnolias\n\nhttps://www.straus
 sart.co.za/auctions/lot/507-11-may-2026/103
DTSTART;TZID=Europe/Helsinki:20260511T154300
DTEND;TZID=Europe/Helsinki:20260511T154400
LOCATION:Online (https://www.straussart.co.za/auctions/details/507-11-may-2
 026)
SUMMARY:Strauss & Co - Timed Online Auction\, 11 May 2026
BEGIN:VALARM
UID:33393965-6565-4262-a231-356331653164
ACTION:DISPLAY
DESCRIPTION:Reminder
TRIGGER:PT30M
END:VALARM
END:VEVENT
END:VCALENDAR
