BEGIN:VCALENDAR
VERSION:2.0
PRODID:-//102.37.3.30//NONSGML kigkonsult.se iCalcreator 2.41.92//
CALSCALE:GREGORIAN
METHOD:PUBLISH
UID:64313938-3564-4163-b365-663434666632
X-WR-TIMEZONE:Africa/Johannesburg
BEGIN:VEVENT
UID:37353965-6633-4663-b939-396231306237
DTSTAMP:20260425T185120Z
DESCRIPTION:STRAUSS & CO\nTIMED ONLINE AUCTION\, 11 MAY 2026\n\nMay ART\n\n
 https://www.straussart.co.za/auctions/details/507-11-may-2026
DTSTART;TZID=Europe/Helsinki:20260424T140000
DTEND;TZID=Europe/Helsinki:20260511T194200
LOCATION:Online (https://www.straussart.co.za/auctions/details/507-11-may-2
 026)
SUMMARY:Strauss & Co - Timed Online Auction\, 11 May 2026
BEGIN:VALARM
UID:33376566-3436-4461-a536-343733353731
ACTION:DISPLAY
DESCRIPTION:Reminder
TRIGGER:
END:VALARM
END:VEVENT
END:VCALENDAR
