BEGIN:VCALENDAR
VERSION:2.0
PRODID:-//102.37.3.30//NONSGML kigkonsult.se iCalcreator 2.41.92//
CALSCALE:GREGORIAN
METHOD:PUBLISH
UID:62313064-3938-4138-b963-373836313033
X-WR-TIMEZONE:Africa/Johannesburg
BEGIN:VEVENT
UID:38313965-3964-4333-b965-653263376431
DTSTAMP:20260421T060404Z
DESCRIPTION:STRAUSS & CO\nTIMED ONLINE AUCTION\, 20 APRIL 2026\n\nBordeaux 
 – Style wines\n\nhttps://www.straussart.co.za/auctions/details/505-20-apr-
 2026\n\n-------------------------\n\nLot 190\nL'Eglise Clinet\; Pomerol\n 
 2006\; 1 (1 x 1) 750ml\n\nhttps://www.straussart.co.za/auctions/lot/505-20
 -apr-2026/190
DTSTART;TZID=Europe/Helsinki:20260420T211000
DTEND;TZID=Europe/Helsinki:20260420T211100
LOCATION:Online (https://www.straussart.co.za/auctions/details/505-20-apr-2
 026)
SUMMARY:Strauss & Co - Timed Online Auction\, 20 April 2026
BEGIN:VALARM
UID:62636662-3235-4963-a238-623530376434
ACTION:DISPLAY
DESCRIPTION:Reminder
TRIGGER:
END:VALARM
END:VEVENT
END:VCALENDAR
