BEGIN:VCALENDAR
VERSION:2.0
PRODID:-//102.37.3.30//NONSGML kigkonsult.se iCalcreator 2.41.92//
CALSCALE:GREGORIAN
METHOD:PUBLISH
UID:39306331-3831-4966-b765-626434666466
X-WR-TIMEZONE:Africa/Johannesburg
BEGIN:VEVENT
UID:37336563-6366-4633-b732-373835653635
DTSTAMP:20260425T181608Z
DESCRIPTION:STRAUSS & CO\nTIMED ONLINE AUCTION\, 20 APRIL 2026\n\nBordeaux 
 – Style wines\n\nhttps://www.straussart.co.za/auctions/details/505-20-apr-
 2026\n\n-------------------------\n\nLot 177\nLa Fleur de Boüard\; Lalande
  de Pomerol\n 2015\; 3 (1 x 3) 750ml\n\nhttps://www.straussart.co.za/aucti
 ons/lot/505-20-apr-2026/177
DTSTART;TZID=Europe/Helsinki:20260420T205807
DTEND;TZID=Europe/Helsinki:20260420T205907
LOCATION:Online (https://www.straussart.co.za/auctions/details/505-20-apr-2
 026)
SUMMARY:Strauss & Co - Timed Online Auction\, 20 April 2026
BEGIN:VALARM
UID:39626338-6139-4334-b661-306665373730
ACTION:DISPLAY
DESCRIPTION:Reminder
TRIGGER:
END:VALARM
END:VEVENT
END:VCALENDAR
