BEGIN:VCALENDAR
VERSION:2.0
PRODID:-//102.37.3.30//NONSGML kigkonsult.se iCalcreator 2.41.92//
CALSCALE:GREGORIAN
METHOD:PUBLISH
UID:33653863-6565-4738-b234-343433326535
X-WR-TIMEZONE:Africa/Johannesburg
BEGIN:VEVENT
UID:36356538-6638-4039-b065-333062336339
DTSTAMP:20260423T224808Z
DESCRIPTION:STRAUSS & CO\nTIMED ONLINE AUCTION\, 20 APRIL 2026\n\nBordeaux 
 – Style wines\n\nhttps://www.straussart.co.za/auctions/details/505-20-apr-
 2026\n\n-------------------------\n\nLot 168\nGruaud-Larose\; Saint-Julien
 \n 2000\; 1 (1 x 1) 750ml\n\nhttps://www.straussart.co.za/auctions/lot/505
 -20-apr-2026/168
DTSTART;TZID=Europe/Helsinki:20260420T204800
DTEND;TZID=Europe/Helsinki:20260420T204900
LOCATION:Online (https://www.straussart.co.za/auctions/details/505-20-apr-2
 026)
SUMMARY:Strauss & Co - Timed Online Auction\, 20 April 2026
BEGIN:VALARM
UID:66336531-3238-4530-b435-383365343135
ACTION:DISPLAY
DESCRIPTION:Reminder
TRIGGER:
END:VALARM
END:VEVENT
END:VCALENDAR
