BEGIN:VCALENDAR
VERSION:2.0
PRODID:-//102.37.3.30//NONSGML kigkonsult.se iCalcreator 2.41.92//
CALSCALE:GREGORIAN
METHOD:PUBLISH
UID:65386434-3763-4466-b937-313036323536
X-WR-TIMEZONE:Africa/Johannesburg
BEGIN:VEVENT
UID:64666663-3131-4565-a432-303932313538
DTSTAMP:20260421T060341Z
DESCRIPTION:STRAUSS & CO\nTIMED ONLINE AUCTION\, 20 APRIL 2026\n\nBordeaux 
 – Style wines\n\nhttps://www.straussart.co.za/auctions/details/505-20-apr-
 2026\n\n-------------------------\n\nLot 132\nChantegrive\; Caroline Grave
 s Blanc\n 2011\; 4 (1 x 4) 750ml\n\nhttps://www.straussart.co.za/auctions/
 lot/505-20-apr-2026/132
DTSTART;TZID=Europe/Helsinki:20260420T201200
DTEND;TZID=Europe/Helsinki:20260420T201300
LOCATION:Online (https://www.straussart.co.za/auctions/details/505-20-apr-2
 026)
SUMMARY:Strauss & Co - Timed Online Auction\, 20 April 2026
BEGIN:VALARM
UID:64343334-6437-4336-b665-383131373063
ACTION:DISPLAY
DESCRIPTION:Reminder
TRIGGER:
END:VALARM
END:VEVENT
END:VCALENDAR
