BEGIN:VCALENDAR
VERSION:2.0
PRODID:-//102.37.3.30//NONSGML kigkonsult.se iCalcreator 2.41.92//
CALSCALE:GREGORIAN
METHOD:PUBLISH
UID:34363462-3733-4636-a534-393466386132
X-WR-TIMEZONE:Africa/Johannesburg
BEGIN:VEVENT
UID:31383264-3030-4562-b462-346537353835
DTSTAMP:20260425T181533Z
DESCRIPTION:STRAUSS & CO\nTIMED ONLINE AUCTION\, 20 APRIL 2026\n\nBordeaux 
 – Style wines\n\nhttps://www.straussart.co.za/auctions/details/505-20-apr-
 2026\n\n-------------------------\n\nLot 118\nBeauséjour Duffau-Lagarrosse
 \; Saint-Émilion\n 1995\; 1 (1 x 1) 750ml\n\nhttps://www.straussart.co.za/
 auctions/lot/505-20-apr-2026/118
DTSTART;TZID=Europe/Helsinki:20260420T200259
DTEND;TZID=Europe/Helsinki:20260420T200359
LOCATION:Online (https://www.straussart.co.za/auctions/details/505-20-apr-2
 026)
SUMMARY:Strauss & Co - Timed Online Auction\, 20 April 2026
BEGIN:VALARM
UID:39333466-3638-4335-b766-666131643230
ACTION:DISPLAY
DESCRIPTION:Reminder
TRIGGER:
END:VALARM
END:VEVENT
END:VCALENDAR
