BEGIN:VCALENDAR
VERSION:2.0
PRODID:-//102.37.3.30//NONSGML kigkonsult.se iCalcreator 2.41.92//
CALSCALE:GREGORIAN
METHOD:PUBLISH
UID:62643631-3531-4437-b230-633764643831
X-WR-TIMEZONE:Africa/Johannesburg
BEGIN:VEVENT
UID:38303036-3361-4135-b933-346636346266
DTSTAMP:20260425T181550Z
DESCRIPTION:STRAUSS & CO\nTIMED ONLINE AUCTION\, 20 APRIL 2026\n\nBordeaux 
 – Style wines\n\nhttps://www.straussart.co.za/auctions/details/505-20-apr-
 2026\n\n-------------------------\n\nLot 47\nMeerlust\; Rubicon\n 2015\; 6
  (1 x 6) 750ml\n\nhttps://www.straussart.co.za/auctions/lot/505-20-apr-202
 6/47
DTSTART;TZID=Europe/Helsinki:20260420T184700
DTEND;TZID=Europe/Helsinki:20260420T184800
LOCATION:Online (https://www.straussart.co.za/auctions/details/505-20-apr-2
 026)
SUMMARY:Strauss & Co - Timed Online Auction\, 20 April 2026
BEGIN:VALARM
UID:38383638-6462-4666-b030-326631326339
ACTION:DISPLAY
DESCRIPTION:Reminder
TRIGGER:
END:VALARM
END:VEVENT
END:VCALENDAR
