BEGIN:VCALENDAR
VERSION:2.0
PRODID:-//102.37.3.30//NONSGML kigkonsult.se iCalcreator 2.41.92//
CALSCALE:GREGORIAN
METHOD:PUBLISH
UID:65313034-3161-4431-a234-613832616433
X-WR-TIMEZONE:Africa/Johannesburg
BEGIN:VEVENT
UID:36346233-3137-4638-b039-316162613638
DTSTAMP:20260425T181602Z
DESCRIPTION:STRAUSS & CO\nTIMED ONLINE AUCTION\, 20 APRIL 2026\n\nBordeaux 
 – Style wines\n\nhttps://www.straussart.co.za/auctions/details/505-20-apr-
 2026\n\n-------------------------\n\nLot 36\nKanonkop\; Paul Sauer\n 2001\
 ; 6 (1 x 6) 750ml\n\nhttps://www.straussart.co.za/auctions/lot/505-20-apr-
 2026/36
DTSTART;TZID=Europe/Helsinki:20260420T183600
DTEND;TZID=Europe/Helsinki:20260420T183700
LOCATION:Online (https://www.straussart.co.za/auctions/details/505-20-apr-2
 026)
SUMMARY:Strauss & Co - Timed Online Auction\, 20 April 2026
BEGIN:VALARM
UID:39323734-3264-4432-a533-666365383832
ACTION:DISPLAY
DESCRIPTION:Reminder
TRIGGER:
END:VALARM
END:VEVENT
END:VCALENDAR
