BEGIN:VCALENDAR
VERSION:2.0
PRODID:-//102.37.3.30//NONSGML kigkonsult.se iCalcreator 2.41.92//
CALSCALE:GREGORIAN
METHOD:PUBLISH
UID:65393463-3739-4462-b434-653763393831
X-WR-TIMEZONE:Africa/Johannesburg
BEGIN:VEVENT
UID:39653963-6263-4632-b562-386430353034
DTSTAMP:20260423T224827Z
DESCRIPTION:STRAUSS & CO\nTIMED ONLINE AUCTION\, 20 APRIL 2026\n\nBordeaux 
 – Style wines\n\nhttps://www.straussart.co.za/auctions/details/505-20-apr-
 2026\n\n-------------------------\n\nLot 34\nKanonkop\; Paul Sauer\n 2005\
 ; 6 (1 x 6) 750ml\n\nhttps://www.straussart.co.za/auctions/lot/505-20-apr-
 2026/34
DTSTART;TZID=Europe/Helsinki:20260420T183400
DTEND;TZID=Europe/Helsinki:20260420T183500
LOCATION:Online (https://www.straussart.co.za/auctions/details/505-20-apr-2
 026)
SUMMARY:Strauss & Co - Timed Online Auction\, 20 April 2026
BEGIN:VALARM
UID:32333561-3935-4937-b364-373434343866
ACTION:DISPLAY
DESCRIPTION:Reminder
TRIGGER:
END:VALARM
END:VEVENT
END:VCALENDAR
