BEGIN:VCALENDAR
VERSION:2.0
PRODID:-//102.37.3.30//NONSGML kigkonsult.se iCalcreator 2.41.92//
CALSCALE:GREGORIAN
METHOD:PUBLISH
UID:66656630-6461-4264-b661-333739333165
X-WR-TIMEZONE:Africa/Johannesburg
BEGIN:VEVENT
UID:39313264-3832-4264-a363-376563376430
DTSTAMP:20260425T181548Z
DESCRIPTION:STRAUSS & CO\nTIMED ONLINE AUCTION\, 20 APRIL 2026\n\nBordeaux 
 – Style wines\n\nhttps://www.straussart.co.za/auctions/details/505-20-apr-
 2026\n\n-------------------------\n\nLot 16\nGlenelly\; Lady May\n 2015\; 
 3 (1 x 3) 750ml\n\nhttps://www.straussart.co.za/auctions/lot/505-20-apr-20
 26/16
DTSTART;TZID=Europe/Helsinki:20260420T182102
DTEND;TZID=Europe/Helsinki:20260420T182202
LOCATION:Online (https://www.straussart.co.za/auctions/details/505-20-apr-2
 026)
SUMMARY:Strauss & Co - Timed Online Auction\, 20 April 2026
BEGIN:VALARM
UID:30333135-6233-4036-b936-386565616233
ACTION:DISPLAY
DESCRIPTION:Reminder
TRIGGER:
END:VALARM
END:VEVENT
END:VCALENDAR
