BEGIN:VCALENDAR
VERSION:2.0
PRODID:-//102.37.3.30//NONSGML kigkonsult.se iCalcreator 2.41.92//
CALSCALE:GREGORIAN
METHOD:PUBLISH
UID:36313334-6434-4037-a431-366466626437
X-WR-TIMEZONE:Africa/Johannesburg
BEGIN:VEVENT
UID:39313137-3962-4537-b963-636466313636
DTSTAMP:20260425T181602Z
DESCRIPTION:STRAUSS & CO\nTIMED ONLINE AUCTION\, 20 APRIL 2026\n\nBordeaux 
 – Style wines\n\nhttps://www.straussart.co.za/auctions/details/505-20-apr-
 2026\n\n-------------------------\n\nLot 100\nVergelegen\; Estate Red\n 20
 02\; 4 (1 x 4) 750ml\n\nhttps://www.straussart.co.za/auctions/lot/505-20-a
 pr-2026/100
DTSTART;TZID=Europe/Helsinki:20260420T194000
DTEND;TZID=Europe/Helsinki:20260420T194100
LOCATION:Online (https://www.straussart.co.za/auctions/details/505-20-apr-2
 026)
SUMMARY:Strauss & Co - Timed Online Auction\, 20 April 2026
BEGIN:VALARM
UID:36626433-3434-4065-b261-623765313434
ACTION:DISPLAY
DESCRIPTION:Reminder
TRIGGER:
END:VALARM
END:VEVENT
END:VCALENDAR
