BEGIN:VCALENDAR
VERSION:2.0
PRODID:-//102.37.3.30//NONSGML kigkonsult.se iCalcreator 2.41.92//
CALSCALE:GREGORIAN
METHOD:PUBLISH
UID:62323738-3861-4662-b339-653764626134
X-WR-TIMEZONE:Africa/Johannesburg
BEGIN:VEVENT
UID:34353164-3132-4336-a166-373464306362
DTSTAMP:20260425T181600Z
DESCRIPTION:STRAUSS & CO\nTIMED ONLINE AUCTION\, 21 APRIL 2026\n\nLondon Re
 visited\n\nhttps://www.straussart.co.za/auctions/details/504-21-apr-2026\n
 \n-------------------------\n\nLot 37\nJimoh Buraimoh\nUntitled (Figure wi
 th Crown)\n\nhttps://www.straussart.co.za/auctions/lot/504-21-apr-2026/37
DTSTART;TZID=Europe/Helsinki:20260421T143700
DTEND;TZID=Europe/Helsinki:20260421T143800
LOCATION:Online (https://www.straussart.co.za/auctions/details/504-21-apr-2
 026)
SUMMARY:Strauss & Co - Timed Online Auction\, 21 April 2026
BEGIN:VALARM
UID:38656264-3138-4135-a265-396336313332
ACTION:DISPLAY
DESCRIPTION:Reminder
TRIGGER:
END:VALARM
END:VEVENT
END:VCALENDAR
