BEGIN:VCALENDAR
VERSION:2.0
PRODID:-//102.37.3.30//NONSGML kigkonsult.se iCalcreator 2.41.92//
CALSCALE:GREGORIAN
METHOD:PUBLISH
UID:66386431-6130-4430-b966-383333303435
X-WR-TIMEZONE:Africa/Johannesburg
BEGIN:VEVENT
UID:38393764-6539-4066-b531-306561336433
DTSTAMP:20260425T181602Z
DESCRIPTION:STRAUSS & CO\nTIMED ONLINE AUCTION\, 21 APRIL 2026\n\nLondon Re
 visited\n\nhttps://www.straussart.co.za/auctions/details/504-21-apr-2026\n
 \n-------------------------\n\nLot 30\nJacob Afolabi\nUntitled (Abstracted
  Figure in Profile)\n\nhttps://www.straussart.co.za/auctions/lot/504-21-ap
 r-2026/30
DTSTART;TZID=Europe/Helsinki:20260421T143000
DTEND;TZID=Europe/Helsinki:20260421T143100
LOCATION:Online (https://www.straussart.co.za/auctions/details/504-21-apr-2
 026)
SUMMARY:Strauss & Co - Timed Online Auction\, 21 April 2026
BEGIN:VALARM
UID:61626463-3162-4633-b733-363734663030
ACTION:DISPLAY
DESCRIPTION:Reminder
TRIGGER:
END:VALARM
END:VEVENT
END:VCALENDAR
