BEGIN:VCALENDAR
VERSION:2.0
PRODID:-//102.37.3.30//NONSGML kigkonsult.se iCalcreator 2.41.92//
CALSCALE:GREGORIAN
METHOD:PUBLISH
UID:61373133-3566-4564-b762-616631633165
X-WR-TIMEZONE:Africa/Johannesburg
BEGIN:VEVENT
UID:30363462-3562-4736-b332-316363326632
DTSTAMP:20260423T065938Z
DESCRIPTION:STRAUSS & CO\nTIMED ONLINE AUCTION\, 21 APRIL 2026\n\nLondon Re
 visited\n\nhttps://www.straussart.co.za/auctions/details/504-21-apr-2026
DTSTART;TZID=Europe/Helsinki:20260402T140000
DTEND;TZID=Europe/Helsinki:20260421T145000
LOCATION:Online (https://www.straussart.co.za/auctions/details/504-21-apr-2
 026)
SUMMARY:Strauss & Co - Timed Online Auction\, 21 April 2026
BEGIN:VALARM
UID:32383137-6635-4166-a364-313832613162
ACTION:DISPLAY
DESCRIPTION:Reminder
TRIGGER:
END:VALARM
END:VEVENT
END:VCALENDAR
