BEGIN:VCALENDAR
VERSION:2.0
PRODID:-//102.37.3.30//NONSGML kigkonsult.se iCalcreator 2.41.92//
CALSCALE:GREGORIAN
METHOD:PUBLISH
UID:62326161-3963-4838-a162-383264633066
X-WR-TIMEZONE:Africa/Johannesburg
BEGIN:VEVENT
UID:65666430-6538-4435-a661-363061393932
DTSTAMP:20260422T021942Z
DESCRIPTION:STRAUSS & CO\nTIMED ONLINE AUCTION\, 20 APRIL 2026\n\nApril ART
 \n\nhttps://www.straussart.co.za/auctions/details/503-20-apr-2026\n\n-----
 --------------------\n\nLot 354\nCecil Skotnes\nUntitled (Windstorm)\, fro
 m Man's Gold\n\nhttps://www.straussart.co.za/auctions/lot/503-20-apr-2026/
 354
DTSTART;TZID=Europe/Helsinki:20260420T195400
DTEND;TZID=Europe/Helsinki:20260420T195500
LOCATION:Online (https://www.straussart.co.za/auctions/details/503-20-apr-2
 026)
SUMMARY:Strauss & Co - Timed Online Auction\, 20 April 2026
BEGIN:VALARM
UID:36396164-6365-4931-b533-376337653634
ACTION:DISPLAY
DESCRIPTION:Reminder
TRIGGER:
END:VALARM
END:VEVENT
END:VCALENDAR
