BEGIN:VCALENDAR
VERSION:2.0
PRODID:-//102.37.3.30//NONSGML kigkonsult.se iCalcreator 2.41.92//
CALSCALE:GREGORIAN
METHOD:PUBLISH
UID:32356237-3661-4238-a233-343239323564
X-WR-TIMEZONE:Africa/Johannesburg
BEGIN:VEVENT
UID:62343631-3963-4662-a332-396135393366
DTSTAMP:20260422T034417Z
DESCRIPTION:STRAUSS & CO\nTIMED ONLINE AUCTION\, 20 APRIL 2026\n\nApril ART
 \n\nhttps://www.straussart.co.za/auctions/details/503-20-apr-2026\n\n-----
 --------------------\n\nLot 299\nChristo Coetzee\nAbstract Composition in 
 Purple and Yellow\n\nhttps://www.straussart.co.za/auctions/lot/503-20-apr-
 2026/299
DTSTART;TZID=Europe/Helsinki:20260420T185900
DTEND;TZID=Europe/Helsinki:20260420T190000
LOCATION:Online (https://www.straussart.co.za/auctions/details/503-20-apr-2
 026)
SUMMARY:Strauss & Co - Timed Online Auction\, 20 April 2026
BEGIN:VALARM
UID:36386139-3735-4765-b633-623261323163
ACTION:DISPLAY
DESCRIPTION:Reminder
TRIGGER:
END:VALARM
END:VEVENT
END:VCALENDAR
