BEGIN:VCALENDAR
VERSION:2.0
PRODID:-//102.37.3.30//NONSGML kigkonsult.se iCalcreator 2.41.92//
CALSCALE:GREGORIAN
METHOD:PUBLISH
UID:66623131-3436-4135-a139-313366623137
X-WR-TIMEZONE:Africa/Johannesburg
BEGIN:VEVENT
UID:63346134-3065-4137-b864-343039323661
DTSTAMP:20260425T181544Z
DESCRIPTION:STRAUSS & CO\nTIMED ONLINE AUCTION\, 20 APRIL 2026\n\nApril ART
 \n\nhttps://www.straussart.co.za/auctions/details/503-20-apr-2026\n\n-----
 --------------------\n\nLot 113\nAlfred Krenz\nMowbray Mosque\n\nhttps://w
 ww.straussart.co.za/auctions/lot/503-20-apr-2026/113
DTSTART;TZID=Europe/Helsinki:20260420T155300
DTEND;TZID=Europe/Helsinki:20260420T155400
LOCATION:Online (https://www.straussart.co.za/auctions/details/503-20-apr-2
 026)
SUMMARY:Strauss & Co - Timed Online Auction\, 20 April 2026
BEGIN:VALARM
UID:33303165-6165-4365-b763-643366383234
ACTION:DISPLAY
DESCRIPTION:Reminder
TRIGGER:
END:VALARM
END:VEVENT
END:VCALENDAR
