BEGIN:VCALENDAR
VERSION:2.0
PRODID:-//102.37.3.30//NONSGML kigkonsult.se iCalcreator 2.41.92//
CALSCALE:GREGORIAN
METHOD:PUBLISH
UID:65663764-6637-4166-a434-396531623132
X-WR-TIMEZONE:Africa/Johannesburg
BEGIN:VEVENT
UID:63333730-6463-4633-b761-613237356338
DTSTAMP:20260423T193935Z
DESCRIPTION:STRAUSS & CO\nTIMED ONLINE AUCTION\, 9 MARCH 2026\n\n2016 Vinta
 ge\n\nhttps://www.straussart.co.za/auctions/details/500-9-mar-2026
DTSTART;TZID=Europe/Helsinki:20260225T090000
DTEND;TZID=Europe/Helsinki:20260309T201800
LOCATION:Online (https://www.straussart.co.za/auctions/details/500-9-mar-20
 26)
SUMMARY:Strauss & Co - Timed Online Auction\, 9 March 2026
BEGIN:VALARM
UID:66636661-3031-4432-a538-656362333062
ACTION:DISPLAY
DESCRIPTION:Reminder
TRIGGER:
END:VALARM
END:VEVENT
END:VCALENDAR
