BEGIN:VCALENDAR
VERSION:2.0
PRODID:-//102.37.3.30//NONSGML kigkonsult.se iCalcreator 2.41.92//
CALSCALE:GREGORIAN
METHOD:PUBLISH
UID:32636633-3835-4961-b562-323639386138
X-WR-TIMEZONE:Africa/Johannesburg
BEGIN:VEVENT
UID:32366336-3736-4333-a636-653235313634
DTSTAMP:20260425T114140Z
DESCRIPTION:STRAUSS & CO\nTIMED ONLINE AUCTION\, 24 MARCH 2026\n\nDay Sale
 \n\nhttps://www.straussart.co.za/auctions/details/469-24-mar-2026
DTSTART;TZID=Europe/Helsinki:20260224T090000
DTEND;TZID=Europe/Helsinki:20260324T161100
LOCATION:Cape Town (https://www.straussart.co.za/auctions/details/469-24-ma
 r-2026)
SUMMARY:Strauss & Co - Timed Online Auction\, 24 March 2026
BEGIN:VALARM
UID:32346664-3166-4736-a539-393761333034
ACTION:DISPLAY
DESCRIPTION:Reminder
TRIGGER:
END:VALARM
END:VEVENT
END:VCALENDAR
